BEGIN:VCALENDAR
VERSION:2.0
PRODID:-//GTP - ECPv6.15.20//NONSGML v1.0//EN
CALSCALE:GREGORIAN
METHOD:PUBLISH
X-WR-CALNAME:GTP
X-ORIGINAL-URL:https://emmentanz.ch
X-WR-CALDESC:Veranstaltungen für GTP
REFRESH-INTERVAL;VALUE=DURATION:PT1H
X-Robots-Tag:noindex
X-PUBLISHED-TTL:PT1H
BEGIN:VTIMEZONE
TZID:UTC
BEGIN:STANDARD
TZOFFSETFROM:+0000
TZOFFSETTO:+0000
TZNAME:UTC
DTSTART:20250101T000000
END:STANDARD
END:VTIMEZONE
BEGIN:VEVENT
DTSTART;TZID=UTC:20260905T130000
DTEND;TZID=UTC:20260905T220000
DTSTAMP:20260420T210952
CREATED:20260411T122440Z
LAST-MODIFIED:20260411T154914Z
UID:21371-1788613200-1788645600@emmentanz.ch
SUMMARY:Emmentanz - 10 Jahre Jubiläum
DESCRIPTION:
URL:https://emmentanz.ch/event/emmentanz-10-jahre-jubilaeum/
LOCATION:Emmentanz\, Moosbrunnen 3\, Gerlafingen\, Solothurn\, 4563\, Switzerland
CATEGORIES:Festival
ATTACH;FMTTYPE=image/jpeg:https://emmentanz.ch/wp-content/uploads/2026/04/DSC_6152.jpg_compressed.jpeg
ORGANIZER;CN="G-Town Production GTP":MAILTO:info@gtown-production.ch
END:VEVENT
END:VCALENDAR