BEGIN:VCALENDAR
VERSION:2.0
PRODID:-//GTP - ECPv6.15.20//NONSGML v1.0//EN
CALSCALE:GREGORIAN
METHOD:PUBLISH
X-WR-CALNAME:GTP
X-ORIGINAL-URL:https://emmentanz.ch
X-WR-CALDESC:Veranstaltungen für GTP
REFRESH-INTERVAL;VALUE=DURATION:PT1H
X-Robots-Tag:noindex
X-PUBLISHED-TTL:PT1H
BEGIN:VTIMEZONE
TZID:UTC
BEGIN:STANDARD
TZOFFSETFROM:+0000
TZOFFSETTO:+0000
TZNAME:UTC
DTSTART:20250101T000000
END:STANDARD
END:VTIMEZONE
BEGIN:VEVENT
DTSTART;VALUE=DATE:20260808
DTEND;VALUE=DATE:20260809
DTSTAMP:20260420T185536
CREATED:20260411T122238Z
LAST-MODIFIED:20260411T155018Z
UID:21365-1786147200-1786233599@emmentanz.ch
SUMMARY:Streetparade Lovemobile ANIMALZ
DESCRIPTION:LOMO26 – Beats of Colors – Erlebe die Street Parade 2026 aus der besten Perspektive! Unser Chamäleon-Motto verspricht eine unvergessliche Party auf Rädern durch Zürich.
URL:https://emmentanz.ch/event/streetparade-lovemobile-animalz/
LOCATION:Zürich\, Zürich\, 8000
ORGANIZER;CN="GTP & ANIMALZ":MAILTO:info@gtown-production.ch
END:VEVENT
END:VCALENDAR